BEGIN:VCALENDAR
VERSION:2.0
PRODID:-//Henry Ford&#039;s Dreams - ECPv5.1.1//NONSGML v1.0//EN
CALSCALE:GREGORIAN
METHOD:PUBLISH
X-WR-CALNAME:Henry Ford&#039;s Dreams
X-ORIGINAL-URL:https://henryfordsdreams.ca
X-WR-CALDESC:Events for Henry Ford&#039;s Dreams
BEGIN:VTIMEZONE
TZID:UTC
BEGIN:STANDARD
TZOFFSETFROM:+0000
TZOFFSETTO:+0000
TZNAME:UTC
DTSTART:20190101T000000
END:STANDARD
END:VTIMEZONE
BEGIN:VEVENT
DTSTART;TZID=UTC:20190428T080000
DTEND;TZID=UTC:20190428T140000
DTSTAMP:20260423T213457
CREATED:20190430T075409Z
LAST-MODIFIED:20190430T075409Z
UID:15200-1556438400-1556460000@henryfordsdreams.ca
SUMMARY:35thAnnual Ancaster auto swap and car show
DESCRIPTION:Rain or shine.   \nInfo: 905-769-4003  \n
URL:https://henryfordsdreams.ca/event/35thannual-ancaster-auto-swap-and-car-show/
LOCATION:630 Trinity Rd S\, Jerseyville\, ON L0R 1R0\, Canada\, 630 Trinity Rd S\, Jerseyville\, L0R1R0\, Canada
END:VEVENT
END:VCALENDAR