BEGIN:VCALENDAR
VERSION:2.0
PRODID:-//Henry Ford&#039;s Dreams - ECPv5.1.1//NONSGML v1.0//EN
CALSCALE:GREGORIAN
METHOD:PUBLISH
X-WR-CALNAME:Henry Ford&#039;s Dreams
X-ORIGINAL-URL:https://henryfordsdreams.ca
X-WR-CALDESC:Events for Henry Ford&#039;s Dreams
BEGIN:VTIMEZONE
TZID:UTC
BEGIN:STANDARD
TZOFFSETFROM:+0000
TZOFFSETTO:+0000
TZNAME:UTC
DTSTART:20190101T000000
END:STANDARD
END:VTIMEZONE
BEGIN:VEVENT
DTSTART;VALUE=DATE:20190615
DTEND;VALUE=DATE:20190616
DTSTAMP:20260422T205501
CREATED:20190430T094436Z
LAST-MODIFIED:20190520T203512Z
UID:15231-1560556800-1560643199@henryfordsdreams.ca
SUMMARY:7th annual Ford’s in the Park sponsored by Gallinger Ford Lincoln and hosted by the Henry Ford’s Dreams collectors club
DESCRIPTION:Held at Country Heritage Park\, New this year\, participant judging & trophies. 50/50 draw\, food vendors\, auto related vendors\, Model T build demos and a whole lot more. Preregistration\, $15. & $20 at the gate for vehicle & passengers.\ninfo@henryfordsdreams.com (up soon) or call George at 905-580-4032 \nDownload Registration form \n
URL:https://henryfordsdreams.ca/event/7th-annual-fords-in-the-park-sponsored-by-gallinger-ford-lincoln-and-hosted-by-the-henry-fords-dreams-collectors-club/
LOCATION:8560 Tremaine Road\, Milton\, 8560 Tremaine Road\,\, Milton\, ON\, Canada
END:VEVENT
END:VCALENDAR