BEGIN:VCALENDAR
VERSION:2.0
PRODID:-//Henry Ford&#039;s Dreams - ECPv5.1.1//NONSGML v1.0//EN
CALSCALE:GREGORIAN
METHOD:PUBLISH
X-WR-CALNAME:Henry Ford&#039;s Dreams
X-ORIGINAL-URL:https://henryfordsdreams.ca
X-WR-CALDESC:Events for Henry Ford&#039;s Dreams
BEGIN:VTIMEZONE
TZID:UTC
BEGIN:STANDARD
TZOFFSETFROM:+0000
TZOFFSETTO:+0000
TZNAME:UTC
DTSTART:20190101T000000
END:STANDARD
END:VTIMEZONE
BEGIN:VEVENT
DTSTART;VALUE=DATE:20190519
DTEND;VALUE=DATE:20190520
DTSTAMP:20260423T103313
CREATED:20190430T084718Z
LAST-MODIFIED:20190430T084718Z
UID:15209-1558224000-1558310399@henryfordsdreams.ca
SUMMARY:Annual spring flea market at Country Heritage Park
DESCRIPTION:
URL:https://henryfordsdreams.ca/event/annual-spring-flea-market-at-country-heritage-park/
LOCATION:8560 termaine rd\, 8560 termaine rd\, Milton\, Ontario\, L9t2x3\, Canada
END:VEVENT
END:VCALENDAR