BEGIN:VCALENDAR
VERSION:2.0
PRODID:-//Henry Ford&#039;s Dreams - ECPv5.1.1//NONSGML v1.0//EN
CALSCALE:GREGORIAN
METHOD:PUBLISH
X-WR-CALNAME:Henry Ford&#039;s Dreams
X-ORIGINAL-URL:https://henryfordsdreams.ca
X-WR-CALDESC:Events for Henry Ford&#039;s Dreams
BEGIN:VTIMEZONE
TZID:UTC
BEGIN:STANDARD
TZOFFSETFROM:+0000
TZOFFSETTO:+0000
TZNAME:UTC
DTSTART:20190101T000000
END:STANDARD
END:VTIMEZONE
BEGIN:VEVENT
DTSTART;TZID=UTC:20190511T100000
DTEND;TZID=UTC:20190511T150000
DTSTAMP:20260423T142038
CREATED:20190430T080741Z
LAST-MODIFIED:20190430T080900Z
UID:15206-1557568800-1557586800@henryfordsdreams.ca
SUMMARY:Annual Spring Fling Car Show
DESCRIPTION:Info at 905-768-3318 or email tim.barker@granderie.ca \n
URL:https://henryfordsdreams.ca/event/annual-spring-fling-car-show/
LOCATION:70 Parkview Rd\, 70 Parkview Rd\, Hamilton\, Ontario\, Canada
END:VEVENT
END:VCALENDAR