BEGIN:VCALENDAR
VERSION:2.0
PRODID:-//Henry Ford&#039;s Dreams - ECPv5.1.1//NONSGML v1.0//EN
CALSCALE:GREGORIAN
METHOD:PUBLISH
X-WR-CALNAME:Henry Ford&#039;s Dreams
X-ORIGINAL-URL:https://henryfordsdreams.ca
X-WR-CALDESC:Events for Henry Ford&#039;s Dreams
BEGIN:VTIMEZONE
TZID:UTC
BEGIN:STANDARD
TZOFFSETFROM:+0000
TZOFFSETTO:+0000
TZNAME:UTC
DTSTART:20190101T000000
END:STANDARD
END:VTIMEZONE
BEGIN:VEVENT
DTSTART;TZID=UTC:20190430T090000
DTEND;TZID=UTC:20190430T160000
DTSTAMP:20260423T195052
CREATED:20190430T175449Z
LAST-MODIFIED:20190430T175449Z
UID:15296-1556614800-1556640000@henryfordsdreams.ca
SUMMARY:Caygeon Cruisers Cruisefest
DESCRIPTION:15 Beach Park Road\, 9 to 4.  Live music\, door prizes and more.  905-251-0801 or caygeoncruisers@gmail.com \n
URL:https://henryfordsdreams.ca/event/caygeon-cruisers-cruisefest/
LOCATION:Park St\, Bobcaygeon\, ON K0M 1A0\, Park St\, Bobcaygeon\, ON K0M 1A0\, Bobcaygeon\, Ontario\, K0M1A0\, Canada
END:VEVENT
END:VCALENDAR