BEGIN:VCALENDAR
VERSION:2.0
PRODID:-//Henry Ford&#039;s Dreams - ECPv5.1.1//NONSGML v1.0//EN
CALSCALE:GREGORIAN
METHOD:PUBLISH
X-WR-CALNAME:Henry Ford&#039;s Dreams
X-ORIGINAL-URL:https://henryfordsdreams.ca
X-WR-CALDESC:Events for Henry Ford&#039;s Dreams
BEGIN:VTIMEZONE
TZID:UTC
BEGIN:STANDARD
TZOFFSETFROM:+0000
TZOFFSETTO:+0000
TZNAME:UTC
DTSTART:20190101T000000
END:STANDARD
END:VTIMEZONE
BEGIN:VEVENT
DTSTART;TZID=UTC:20190621T143000
DTEND;TZID=UTC:20190622T173000
DTSTAMP:20260422T133536
CREATED:20190430T104054Z
LAST-MODIFIED:20190430T104054Z
UID:15243-1561127400-1561224600@henryfordsdreams.ca
SUMMARY:Fun Run pre-1994 only!
DESCRIPTION:Cash poker run Friday starting at 2:30 concluding with a free BBQ at 5:30.  Judging Show Saturday.  Vehicle admission\, $10.  www.wasagabeachcruisers.org or Dave Curlette\, 705-352-0965 \n
URL:https://henryfordsdreams.ca/event/fun-run-pre-1994-only/
LOCATION:10-20 Main St\, Wasaga Beach\, ON L9Z 2K2\, 10-20 Main St\, Wasaga Beach\, Ontario\, L9Z2K2\, Canada
END:VEVENT
END:VCALENDAR