BEGIN:VCALENDAR
VERSION:2.0
PRODID:-//Henry Ford&#039;s Dreams - ECPv5.1.1//NONSGML v1.0//EN
CALSCALE:GREGORIAN
METHOD:PUBLISH
X-WR-CALNAME:Henry Ford&#039;s Dreams
X-ORIGINAL-URL:https://henryfordsdreams.ca
X-WR-CALDESC:Events for Henry Ford&#039;s Dreams
BEGIN:VTIMEZONE
TZID:UTC
BEGIN:STANDARD
TZOFFSETFROM:+0000
TZOFFSETTO:+0000
TZNAME:UTC
DTSTART:20190101T000000
END:STANDARD
END:VTIMEZONE
BEGIN:VEVENT
DTSTART;TZID=UTC:20190609T090000
DTEND;TZID=UTC:20190609T160000
DTSTAMP:20260422T225754
CREATED:20190430T093546Z
LAST-MODIFIED:20190520T203818Z
UID:15228-1560070800-1560096000@henryfordsdreams.ca
SUMMARY:Main Street Car Show - Newmarket Car Club & Main street Merchants Assoc.
DESCRIPTION:Hosted by Newmarket Car Club & Main street Merchants Assoc. Info\, John\, 289-231-5233 \n
URL:https://henryfordsdreams.ca/event/main-street-car-show/
LOCATION:395 Mulock Drive P.O. Box 328 STN Main Newmarket\, Ontario\, 395 Mulock Drive\, Newmarket\, Ontario\, 328\, Canada
END:VEVENT
END:VCALENDAR