BEGIN:VCALENDAR
VERSION:2.0
PRODID:-//Henry Ford&#039;s Dreams - ECPv5.1.1//NONSGML v1.0//EN
CALSCALE:GREGORIAN
METHOD:PUBLISH
X-WR-CALNAME:Henry Ford&#039;s Dreams
X-ORIGINAL-URL:https://henryfordsdreams.ca
X-WR-CALDESC:Events for Henry Ford&#039;s Dreams
BEGIN:VTIMEZONE
TZID:UTC
BEGIN:STANDARD
TZOFFSETFROM:+0000
TZOFFSETTO:+0000
TZNAME:UTC
DTSTART:20190101T000000
END:STANDARD
END:VTIMEZONE
BEGIN:VEVENT
DTSTART;VALUE=DATE:20190601
DTEND;VALUE=DATE:20190603
DTSTAMP:20260423T065806
CREATED:20190430T085330Z
LAST-MODIFIED:20190430T085350Z
UID:15214-1559347200-1559519999@henryfordsdreams.ca
SUMMARY:Steve Plunket’s Country Cruise-in car show
DESCRIPTION:An automotive event like no other as the big top shows return.  https://www.fleetwoodcountrycruizein.com/ for details including Friday & Saturday night shows.  \n
URL:https://henryfordsdreams.ca/event/steve-plunkets-country-cruise-in-car-show/
LOCATION:9282 Elviage Drive\, London\, Ontario N6K 4N5\, 9282 Elviage Drive\, London\, Ontario\, N6K4N5\, Canada
END:VEVENT
END:VCALENDAR