BEGIN:VCALENDAR
VERSION:2.0
PRODID:-//Henry Ford&#039;s Dreams - ECPv5.1.1//NONSGML v1.0//EN
CALSCALE:GREGORIAN
METHOD:PUBLISH
X-WR-CALNAME:Henry Ford&#039;s Dreams
X-ORIGINAL-URL:https://henryfordsdreams.ca
X-WR-CALDESC:Events for Henry Ford&#039;s Dreams
BEGIN:VTIMEZONE
TZID:UTC
BEGIN:STANDARD
TZOFFSETFROM:+0000
TZOFFSETTO:+0000
TZNAME:UTC
DTSTART:20190101T000000
END:STANDARD
END:VTIMEZONE
BEGIN:VEVENT
DTSTART;VALUE=DATE:20190212
DTEND;VALUE=DATE:20190225
DTSTAMP:20260424T032354
CREATED:20190212T153917Z
LAST-MODIFIED:20190212T153917Z
UID:14949-1549929600-1551052799@henryfordsdreams.ca
SUMMARY:Test Event
DESCRIPTION:Events content will be listed here \n
URL:https://henryfordsdreams.ca/event/test-event/
LOCATION:Test
ATTACH;FMTTYPE=image/jpeg:https://henryfordsdreams.ca/wp-content/uploads/2014/03/032.jpg
END:VEVENT
END:VCALENDAR