BEGIN:VCALENDAR
VERSION:2.0
PRODID:-//Henry Ford&#039;s Dreams - ECPv5.1.1//NONSGML v1.0//EN
CALSCALE:GREGORIAN
METHOD:PUBLISH
X-WR-CALNAME:Henry Ford&#039;s Dreams
X-ORIGINAL-URL:https://henryfordsdreams.ca
X-WR-CALDESC:Events for Henry Ford&#039;s Dreams
BEGIN:VTIMEZONE
TZID:UTC
BEGIN:STANDARD
TZOFFSETFROM:+0000
TZOFFSETTO:+0000
TZNAME:UTC
DTSTART:20190101T000000
END:STANDARD
END:VTIMEZONE
BEGIN:VEVENT
DTSTART;VALUE=DATE:20190524
DTEND;VALUE=DATE:20190526
DTSTAMP:20260423T090738
CREATED:20190430T084908Z
LAST-MODIFIED:20190430T084908Z
UID:15212-1558656000-1558828799@henryfordsdreams.ca
SUMMARY:Waterdown/Rockton auto swap meet & car show
DESCRIPTION:
URL:https://henryfordsdreams.ca/event/waterdown-rockton-auto-swap-meet-car-show/
LOCATION:812 Old Hwy 8\, Rockton\, 812 Old Hwy 8\, Rockton\, Ontario\, L0R1X0\, Canada
END:VEVENT
END:VCALENDAR